BEGIN:VCALENDAR
VERSION:2.0
PRODID:-//eventon.com NONSGML v1.0//EN
CALSCALE:GREGORIAN
METHOD:PUBLISH
BEGIN:VEVENT
UID:69eb5e5dd12cd
DTSTAMP:20260424T131317
DTSTART:20260429T163000Z
DTEND:20260429T180000Z
TZID:Europe/Madrid
LOCATION:Casa del Pueblo PSOE Gijón/Xixón (C/ Argandona\,  4-Bis) 
SUMMARY:ENCUENTROS MUNICIPALES
DESCRIPTION: \nhttps://psoegijon.es/events/encuentros-municipales-16/
URL:https://psoegijon.es/events/encuentros-municipales-16/
END:VEVENT
END:VCALENDAR